BEGIN:VCALENDAR
VERSION:2.0
PRODID:-//Paroisse Saint Laurent - ECPv6.15.20//NONSGML v1.0//EN
CALSCALE:GREGORIAN
METHOD:PUBLISH
X-ORIGINAL-URL:https://www.asaintlaurent.com
X-WR-CALDESC:Évènements pour Paroisse Saint Laurent
REFRESH-INTERVAL;VALUE=DURATION:PT1H
X-Robots-Tag:noindex
X-PUBLISHED-TTL:PT1H
BEGIN:VTIMEZONE
TZID:Europe/Paris
BEGIN:DAYLIGHT
TZOFFSETFROM:+0100
TZOFFSETTO:+0200
TZNAME:CEST
DTSTART:20250330T010000
END:DAYLIGHT
BEGIN:STANDARD
TZOFFSETFROM:+0200
TZOFFSETTO:+0100
TZNAME:CET
DTSTART:20251026T010000
END:STANDARD
BEGIN:DAYLIGHT
TZOFFSETFROM:+0100
TZOFFSETTO:+0200
TZNAME:CEST
DTSTART:20260329T010000
END:DAYLIGHT
BEGIN:STANDARD
TZOFFSETFROM:+0200
TZOFFSETTO:+0100
TZNAME:CET
DTSTART:20261025T010000
END:STANDARD
BEGIN:DAYLIGHT
TZOFFSETFROM:+0100
TZOFFSETTO:+0200
TZNAME:CEST
DTSTART:20270328T010000
END:DAYLIGHT
BEGIN:STANDARD
TZOFFSETFROM:+0200
TZOFFSETTO:+0100
TZNAME:CET
DTSTART:20271031T010000
END:STANDARD
END:VTIMEZONE
BEGIN:VEVENT
DTSTART;TZID=Europe/Paris:20260208T100000
DTEND;TZID=Europe/Paris:20260208T140000
DTSTAMP:20260421T114349
CREATED:20250728T102949Z
LAST-MODIFIED:20250728T102949Z
UID:2983-1770544800-1770559200@www.asaintlaurent.com
SUMMARY:Dimanche Gourmand
DESCRIPTION:Un dimanche pas comme les autres !\nConvivial\, ressourçant et familial \n  \nApprendre à se connaître pour vivre la fraternité des enfants de Dieu passe aussi par des temps conviviaux autour d’un déjeuner. \nRDV à 10h pour un temps de louange pour tous. \nÀ 11h messe dominicale. \n12h30 : Déjeuner dans la salle Saint Vincent à 5€ (entrée\, plat\, dessert). 
URL:https://www.asaintlaurent.com/event/dimanche-gourmand-7/
LOCATION:Paroisse Saint Laurent
CATEGORIES:Dimanche Gourmand
ATTACH;FMTTYPE=image/png:https://www.asaintlaurent.com/wp-content/uploads/2025/07/2.png
END:VEVENT
END:VCALENDAR